Workbook
Name ○: '様式 社会保険料等（R5～）'!$U$5:$U$6
Name ○: '様式 社会保険料等'!$U$5:$U$6
Name 契約形態: '様式 社会保険料等（R5～）'!$U$2:$U$3
Name 契約形態: '様式 社会保険料等'!$U$2:$U$3
Name 検査項目: #REF!
Name 県有林: [1]県有林!$D$8:$U$104
Name 工種: #REF!
Name 広域振興局等: [3]ｺｰﾄﾞ表!$Y$4:$Y$14
Name 広域振興局等: [3]ｺｰﾄﾞ表!$Y$4:$Y$14
Name 広域振興局等: [2]ｺｰﾄﾞ表!$X$4:$X$14
Name 庶務: [1]庶務!$D$8:$U$188
Name 職員名: #REF!
Name 職名: #REF!
Name 振興局: #REF!
Name 蓄積区分: [3]ｺｰﾄﾞ表!$T$4:$T$8

Sheet 入力
A1: 様式第３－１号（別表１関係）
A3: 24
A5: 整理番号 | E5: 公所名 | H5: 市町村 | M5: 申請者 | P5: 事業区分 | X5: 件数 | AA5: 合計面積 | AE5: 実行経費合計
H6: コード | J6: 名 称 | M6: コード | N6: 名 称 | P6: コード | R6: 名 称
E7: 盛岡 | H7: 201 | J7: =IF(H7="","",VLOOKUP(H7,#REF!,2)) -> #REF! | M7: 2 | N7: =IF(M7="","",VLOOKUP(M7,#REF!,7)) -> #REF! | P7: 1 | R7: =IF(P7="","",VLOOKUP(P7,#REF!,2)) -> #REF! | X7: =IF(SUM(AJ12:AJ112)=0,"",SUM(AJ12:AJ112)) -> 1 | Z7: 件 | AA7: =IF(SUM(W12:W112)=0,"",SUM(W12:W112)) -> 1.34 | AC7: ha | AE7: =IF(SUM(AI12:AI112)=0,"",SUM(AI12:AI112)) -> #REF! | AH7: 円
AD8: ※市町村が事業を実施した場合に記載
B10: 申請番号 | E10: 林小班 | H10: 計画 | J10: 事業主体名 | L10: 森林所有者名 | O10: 施行地 地 番 | P10: 権利形態 | R10: ③ 保 安 林 等 | S10: ④ 機 能 区 分 | T10: ⑤ 施 行 方 法 | U10: ⑥ 事業実行者名 | V10: ⑦ 作 業 種 区 分 | W10: ⑧ 施 行 地 面 積 （ha) | X10: ⑨ 林 齢 | Y10: ⑩ 樹 種 | Z10: ⑪ 枝 下 高 （ｍ） | AA10: ⑫ 施行期間 | AC10: ⑬ 森林所有者の従事の有無 | AD10: ⑭ 雇 用 の 有 無 | AE10: 間接費率(%) | AI10: ⑱ 実行 経費 (円) | AL10: 設計額
A11: 番 号 | B11: 人 | C11: 施 | D11: 枝 | E11: 林 班 | F11: 小 班 | G11: 施 業 番 号 | H11: 計 画 区 分 | I11: 認定 番号 | J11: 事 業 主 体 区 分 | K11: 氏名 | L11: 所 有 者 区 分 | M11: 氏名 | N11: 住所 | P11: ① 権 利 区 分 | Q11: ② 分 収 率 （％） | AA11: 着手 年月日 | AB11: 完了 年月日 | AE11: ⑮ 現場監督費 | AF11: ⑯ 付表 番号 | AG11: ⑰ 社会保険料等 | AH11: 計 | AJ11: 件数
B12: 1 | C12: 1 | D12: 1 | E12: 198 | F12: 12 | G12: 1 | H12: 1 | I12: 21-3 | J12: 2 | K12: 盛岡市長 谷藤 裕明 | L12: 14 | M12: 盛岡市長 谷藤 裕明 | N12: 盛岡市内丸12番２号 | O12: 盛岡市猪去字細越15-９ | P12: 1 | R12: 1 | S12: 1 | T12: 4 | U12: 盛岡市森林組合 | V12: 6 | W12: 1.34 | X12: 1 | Y12: 7 | AA12: 41152 | AB12: 41173 | AC12: 無 | AD12: 有 | AE12: =IF(AD12="有",16,"") -> 16 | AF12: 1 | AG12: =IF(AF12='様式 社会保険料等'!$N$5,'様式 社会保険料等'!$P$24,IF(AF12='様式 社会保険料等'!#REF!,'様式 社会保険料等'!#REF!,IF(AF12='様式 社会保険料等'!#REF!,'様式 社会保険料等'!#REF!,IF(AF12='様式 社会保険料等'!#REF!,'様式 社会保険料等'!#REF!,IF(AF12='様式 社会保険料等'!#REF!,'様式 社会保険料等'!#REF!,IF(AF12='様式 社会保険料等'!#REF!,'様式 社会保険料等'!#REF!,IF(AF12='様式 社会保険料等'!#REF!,'様式 社会保険料等'!#REF!,IF(AF12='様式 社会保険料等'!#REF!,'様式 社会保険料等'!#REF!,"")))))))) -> #REF! | AH12: =IF(SUM(AE12,AG12)=0,"",SUM(AE12,AG12)) -> #REF! | AI12: =IF(AL12*#REF!=0," ",ROUNDDOWN((AL12*#REF!/100),0)) -> #REF! | AJ12: =IF(B12="","",1) -> 1 | AL12: 164850
AE13: =IF(AD13="有",16,"") | AG13: =IF(AF13='様式 社会保険料等'!$N$5,'様式 社会保険料等'!$P$24,IF(AF13='様式 社会保険料等'!#REF!,'様式 社会保険料等'!#REF!,IF(AF13='様式 社会保険料等'!#REF!,'様式 社会保険料等'!#REF!,IF(AF13='様式 社会保険料等'!#REF!,'様式 社会保険料等'!#REF!,IF(AF13='様式 社会保険料等'!#REF!,'様式 社会保険料等'!#REF!,IF(AF13='様式 社会保険料等'!#REF!,'様式 社会保険料等'!#REF!,IF(AF13='様式 社会保険料等'!#REF!,'様式 社会保険料等'!#REF!,IF(AF13='様式 社会保険料等'!#REF!,'様式 社会保険料等'!#REF!,"")))))))) -> 0 | AH13: =IF(SUM(AE13,AG13)=0,"",SUM(AE13,AG13)) | AI13: =IF(AL13*#REF!=0," ",ROUNDDOWN((AL13*#REF!),0)) -> #REF! | AJ13: =IF(B13="","",1)
AE14: =IF(AD14="有",16,"") | AG14: =IF(AF14='様式 社会保険料等'!$N$5,'様式 社会保険料等'!$P$24,IF(AF14='様式 社会保険料等'!#REF!,'様式 社会保険料等'!#REF!,IF(AF14='様式 社会保険料等'!#REF!,'様式 社会保険料等'!#REF!,IF(AF14='様式 社会保険料等'!#REF!,'様式 社会保険料等'!#REF!,IF(AF14='様式 社会保険料等'!#REF!,'様式 社会保険料等'!#REF!,IF(AF14='様式 社会保険料等'!#REF!,'様式 社会保険料等'!#REF!,IF(AF14='様式 社会保険料等'!#REF!,'様式 社会保険料等'!#REF!,IF(AF14='様式 社会保険料等'!#REF!,'様式 社会保険料等'!#REF!,"")))))))) -> 0 | AH14: =IF(SUM(AE14,AG14)=0,"",SUM(AE14,AG14)) | AI14: =IF(AL14*#REF!=0," ",ROUNDDOWN((AL14*#REF!),0)) -> #REF! | AJ14: =IF(B14="","",1)
AE15: =IF(AD15="有",16,"") | AG15: =IF(AF15='様式 社会保険料等'!$N$5,'様式 社会保険料等'!$P$24,IF(AF15='様式 社会保険料等'!#REF!,'様式 社会保険料等'!#REF!,IF(AF15='様式 社会保険料等'!#REF!,'様式 社会保険料等'!#REF!,IF(AF15='様式 社会保険料等'!#REF!,'様式 社会保険料等'!#REF!,IF(AF15='様式 社会保険料等'!#REF!,'様式 社会保険料等'!#REF!,IF(AF15='様式 社会保険料等'!#REF!,'様式 社会保険料等'!#REF!,IF(AF15='様式 社会保険料等'!#REF!,'様式 社会保険料等'!#REF!,IF(AF15='様式 社会保険料等'!#REF!,'様式 社会保険料等'!#REF!,"")))))))) -> 0 | AH15: =IF(SUM(AE15,AG15)=0,"",SUM(AE15,AG15)) | AI15: =IF(AL15*#REF!=0," ",ROUNDDOWN((AL15*#REF!),0)) -> #REF! | AJ15: =IF(B15="","",1)
AE16: =IF(AD16="有",16,"") | AG16: =IF(AF16='様式 社会保険料等'!$N$5,'様式 社会保険料等'!$P$24,IF(AF16='様式 社会保険料等'!#REF!,'様式 社会保険料等'!#REF!,IF(AF16='様式 社会保険料等'!#REF!,'様式 社会保険料等'!#REF!,IF(AF16='様式 社会保険料等'!#REF!,'様式 社会保険料等'!#REF!,IF(AF16='様式 社会保険料等'!#REF!,'様式 社会保険料等'!#REF!,IF(AF16='様式 社会保険料等'!#REF!,'様式 社会保険料等'!#REF!,IF(AF16='様式 社会保険料等'!#REF!,'様式 社会保険料等'!#REF!,IF(AF16='様式 社会保険料等'!#REF!,'様式 社会保険料等'!#REF!,"")))))))) -> 0 | AH16: =IF(SUM(AE16,AG16)=0,"",SUM(AE16,AG16)) | AI16: =IF(AL16*#REF!=0," ",ROUNDDOWN((AL16*#REF!),0)) -> #REF! | AJ16: =IF(B16="","",1)
AE17: =IF(AD17="有",16,"") | AG17: =IF(AF17='様式 社会保険料等'!$N$5,'様式 社会保険料等'!$P$24,IF(AF17='様式 社会保険料等'!#REF!,'様式 社会保険料等'!#REF!,IF(AF17='様式 社会保険料等'!#REF!,'様式 社会保険料等'!#REF!,IF(AF17='様式 社会保険料等'!#REF!,'様式 社会保険料等'!#REF!,IF(AF17='様式 社会保険料等'!#REF!,'様式 社会保険料等'!#REF!,IF(AF17='様式 社会保険料等'!#REF!,'様式 社会保険料等'!#REF!,IF(AF17='様式 社会保険料等'!#REF!,'様式 社会保険料等'!#REF!,IF(AF17='様式 社会保険料等'!#REF!,'様式 社会保険料等'!#REF!,"")))))))) -> 0 | AH17: =IF(SUM(AE17,AG17)=0,"",SUM(AE17,AG17)) | AI17: =IF(AL17*#REF!=0," ",ROUNDDOWN((AL17*#REF!),0)) -> #REF! | AJ17: =IF(B17="","",1)
AE18: =IF(AD18="有",16,"") | AG18: =IF(AF18='様式 社会保険料等'!$N$5,'様式 社会保険料等'!$P$24,IF(AF18='様式 社会保険料等'!#REF!,'様式 社会保険料等'!#REF!,IF(AF18='様式 社会保険料等'!#REF!,'様式 社会保険料等'!#REF!,IF(AF18='様式 社会保険料等'!#REF!,'様式 社会保険料等'!#REF!,IF(AF18='様式 社会保険料等'!#REF!,'様式 社会保険料等'!#REF!,IF(AF18='様式 社会保険料等'!#REF!,'様式 社会保険料等'!#REF!,IF(AF18='様式 社会保険料等'!#REF!,'様式 社会保険料等'!#REF!,IF(AF18='様式 社会保険料等'!#REF!,'様式 社会保険料等'!#REF!,"")))))))) -> 0 | AH18: =IF(SUM(AE18,AG18)=0,"",SUM(AE18,AG18)) | AI18: =IF(AL18*#REF!=0," ",ROUNDDOWN((AL18*#REF!),0)) -> #REF! | AJ18: =IF(B18="","",1)
AE19: =IF(AD19="有",16,"") | AG19: =IF(AF19='様式 社会保険料等'!$N$5,'様式 社会保険料等'!$P$24,IF(AF19='様式 社会保険料等'!#REF!,'様式 社会保険料等'!#REF!,IF(AF19='様式 社会保険料等'!#REF!,'様式 社会保険料等'!#REF!,IF(AF19='様式 社会保険料等'!#REF!,'様式 社会保険料等'!#REF!,IF(AF19='様式 社会保険料等'!#REF!,'様式 社会保険料等'!#REF!,IF(AF19='様式 社会保険料等'!#REF!,'様式 社会保険料等'!#REF!,IF(AF19='様式 社会保険料等'!#REF!,'様式 社会保険料等'!#REF!,IF(AF19='様式 社会保険料等'!#REF!,'様式 社会保険料等'!#REF!,"")))))))) -> 0 | AH19: =IF(SUM(AE19,AG19)=0,"",SUM(AE19,AG19)) | AI19: =IF(AL19*#REF!=0," ",ROUNDDOWN((AL19*#REF!),0)) -> #REF! | AJ19: =IF(B19="","",1)
AE20: =IF(AD20="有",16,"") | AG20: =IF(AF20='様式 社会保険料等'!$N$5,'様式 社会保険料等'!$P$24,IF(AF20='様式 社会保険料等'!#REF!,'様式 社会保険料等'!#REF!,IF(AF20='様式 社会保険料等'!#REF!,'様式 社会保険料等'!#REF!,IF(AF20='様式 社会保険料等'!#REF!,'様式 社会保険料等'!#REF!,IF(AF20='様式 社会保険料等'!#REF!,'様式 社会保険料等'!#REF!,IF(AF20='様式 社会保険料等'!#REF!,'様式 社会保険料等'!#REF!,IF(AF20='様式 社会保険料等'!#REF!,'様式 社会保険料等'!#REF!,IF(AF20='様式 社会保険料等'!#REF!,'様式 社会保険料等'!#REF!,"")))))))) -> 0 | AH20: =IF(SUM(AE20,AG20)=0,"",SUM(AE20,AG20)) | AI20: =IF(AL20*#REF!=0," ",ROUNDDOWN((AL20*#REF!),0)) -> #REF! | AJ20: =IF(B20="","",1)
AE21: =IF(AD21="有",16,"") | AG21: =IF(AF21='様式 社会保険料等'!$N$5,'様式 社会保険料等'!$P$24,IF(AF21='様式 社会保険料等'!#REF!,'様式 社会保険料等'!#REF!,IF(AF21='様式 社会保険料等'!#REF!,'様式 社会保険料等'!#REF!,IF(AF21='様式 社会保険料等'!#REF!,'様式 社会保険料等'!#REF!,IF(AF21='様式 社会保険料等'!#REF!,'様式 社会保険料等'!#REF!,IF(AF21='様式 社会保険料等'!#REF!,'様式 社会保険料等'!#REF!,IF(AF21='様式 社会保険料等'!#REF!,'様式 社会保険料等'!#REF!,IF(AF21='様式 社会保険料等'!#REF!,'様式 社会保険料等'!#REF!,"")))))))) -> 0 | AH21: =IF(SUM(AE21,AG21)=0,"",SUM(AE21,AG21)) | AI21: =IF(AL21*#REF!=0," ",ROUNDDOWN((AL21*#REF!),0)) -> #REF! | AJ21: =IF(B21="","",1)
AE22: =IF(AD22="有",16,"") | AG22: =IF(AF22='様式 社会保険料等'!$N$5,'様式 社会保険料等'!$P$24,IF(AF22='様式 社会保険料等'!#REF!,'様式 社会保険料等'!#REF!,IF(AF22='様式 社会保険料等'!#REF!,'様式 社会保険料等'!#REF!,IF(AF22='様式 社会保険料等'!#REF!,'様式 社会保険料等'!#REF!,IF(AF22='様式 社会保険料等'!#REF!,'様式 社会保険料等'!#REF!,IF(AF22='様式 社会保険料等'!#REF!,'様式 社会保険料等'!#REF!,IF(AF22='様式 社会保険料等'!#REF!,'様式 社会保険料等'!#REF!,IF(AF22='様式 社会保険料等'!#REF!,'様式 社会保険料等'!#REF!,"")))))))) -> 0 | AH22: =IF(SUM(AE22,AG22)=0,"",SUM(AE22,AG22)) | AI22: =IF(AL22*#REF!=0," ",ROUNDDOWN((AL22*#REF!),0)) -> #REF!
AE23: =IF(AD23="有",16,"") | AG23: =IF(AF23='様式 社会保険料等'!$N$5,'様式 社会保険料等'!$P$24,IF(AF23='様式 社会保険料等'!#REF!,'様式 社会保険料等'!#REF!,IF(AF23='様式 社会保険料等'!#REF!,'様式 社会保険料等'!#REF!,IF(AF23='様式 社会保険料等'!#REF!,'様式 社会保険料等'!#REF!,IF(AF23='様式 社会保険料等'!#REF!,'様式 社会保険料等'!#REF!,IF(AF23='様式 社会保険料等'!#REF!,'様式 社会保険料等'!#REF!,IF(AF23='様式 社会保険料等'!#REF!,'様式 社会保険料等'!#REF!,IF(AF23='様式 社会保険料等'!#REF!,'様式 社会保険料等'!#REF!,"")))))))) -> 0 | AH23: =IF(SUM(AE23,AG23)=0,"",SUM(AE23,AG23)) | AI23: =IF(AL23*#REF!=0," ",ROUNDDOWN((AL23*#REF!),0)) -> #REF!
AE24: =IF(AD24="有",16,"") | AG24: =IF(AF24='様式 社会保険料等'!$N$5,'様式 社会保険料等'!$P$24,IF(AF24='様式 社会保険料等'!#REF!,'様式 社会保険料等'!#REF!,IF(AF24='様式 社会保険料等'!#REF!,'様式 社会保険料等'!#REF!,IF(AF24='様式 社会保険料等'!#REF!,'様式 社会保険料等'!#REF!,IF(AF24='様式 社会保険料等'!#REF!,'様式 社会保険料等'!#REF!,IF(AF24='様式 社会保険料等'!#REF!,'様式 社会保険料等'!#REF!,IF(AF24='様式 社会保険料等'!#REF!,'様式 社会保険料等'!#REF!,IF(AF24='様式 社会保険料等'!#REF!,'様式 社会保険料等'!#REF!,"")))))))) -> 0 | AH24: =IF(SUM(AE24,AG24)=0,"",SUM(AE24,AG24)) | AI24: =IF(AL24*#REF!=0," ",ROUNDDOWN((AL24*#REF!),0)) -> #REF!
AE25: =IF(AD25="有",16,"") | AG25: =IF(AF25='様式 社会保険料等'!$N$5,'様式 社会保険料等'!$P$24,IF(AF25='様式 社会保険料等'!#REF!,'様式 社会保険料等'!#REF!,IF(AF25='様式 社会保険料等'!#REF!,'様式 社会保険料等'!#REF!,IF(AF25='様式 社会保険料等'!#REF!,'様式 社会保険料等'!#REF!,IF(AF25='様式 社会保険料等'!#REF!,'様式 社会保険料等'!#REF!,IF(AF25='様式 社会保険料等'!#REF!,'様式 社会保険料等'!#REF!,IF(AF25='様式 社会保険料等'!#REF!,'様式 社会保険料等'!#REF!,IF(AF25='様式 社会保険料等'!#REF!,'様式 社会保険料等'!#REF!,"")))))))) -> 0 | AH25: =IF(SUM(AE25,AG25)=0,"",SUM(AE25,AG25)) | AI25: =IF(AL25*#REF!=0," ",ROUNDDOWN((AL25*#REF!),0)) -> #REF!
AE26: =IF(AD26="有",16,"") | AG26: =IF(AF26='様式 社会保険料等'!$N$5,'様式 社会保険料等'!$P$24,IF(AF26='様式 社会保険料等'!#REF!,'様式 社会保険料等'!#REF!,IF(AF26='様式 社会保険料等'!#REF!,'様式 社会保険料等'!#REF!,IF(AF26='様式 社会保険料等'!#REF!,'様式 社会保険料等'!#REF!,IF(AF26='様式 社会保険料等'!#REF!,'様式 社会保険料等'!#REF!,IF(AF26='様式 社会保険料等'!#REF!,'様式 社会保険料等'!#REF!,IF(AF26='様式 社会保険料等'!#REF!,'様式 社会保険料等'!#REF!,IF(AF26='様式 社会保険料等'!#REF!,'様式 社会保険料等'!#REF!,"")))))))) -> 0 | AH26: =IF(SUM(AE26,AG26)=0,"",SUM(AE26,AG26)) | AI26: =IF(AL26*#REF!=0," ",ROUNDDOWN((AL26*#REF!),0)) -> #REF!
AE27: =IF(AD27="有",16,"") | AG27: =IF(AF27='様式 社会保険料等'!$N$5,'様式 社会保険料等'!$P$24,IF(AF27='様式 社会保険料等'!#REF!,'様式 社会保険料等'!#REF!,IF(AF27='様式 社会保険料等'!#REF!,'様式 社会保険料等'!#REF!,IF(AF27='様式 社会保険料等'!#REF!,'様式 社会保険料等'!#REF!,IF(AF27='様式 社会保険料等'!#REF!,'様式 社会保険料等'!#REF!,IF(AF27='様式 社会保険料等'!#REF!,'様式 社会保険料等'!#REF!,IF(AF27='様式 社会保険料等'!#REF!,'様式 社会保険料等'!#REF!,IF(AF27='様式 社会保険料等'!#REF!,'様式 社会保険料等'!#REF!,"")))))))) -> 0 | AH27: =IF(SUM(AE27,AG27)=0,"",SUM(AE27,AG27)) | AI27: =IF(AL27*#REF!=0," ",ROUNDDOWN((AL27*#REF!),0)) -> #REF!
AE28: =IF(AD28="有",16,"") | AG28: =IF(AF28='様式 社会保険料等'!$N$5,'様式 社会保険料等'!$P$24,IF(AF28='様式 社会保険料等'!#REF!,'様式 社会保険料等'!#REF!,IF(AF28='様式 社会保険料等'!#REF!,'様式 社会保険料等'!#REF!,IF(AF28='様式 社会保険料等'!#REF!,'様式 社会保険料等'!#REF!,IF(AF28='様式 社会保険料等'!#REF!,'様式 社会保険料等'!#REF!,IF(AF28='様式 社会保険料等'!#REF!,'様式 社会保険料等'!#REF!,IF(AF28='様式 社会保険料等'!#REF!,'様式 社会保険料等'!#REF!,IF(AF28='様式 社会保険料等'!#REF!,'様式 社会保険料等'!#REF!,"")))))))) -> 0 | AH28: =IF(SUM(AE28,AG28)=0,"",SUM(AE28,AG28)) | AI28: =IF(AL28*#REF!=0," ",ROUNDDOWN((AL28*#REF!),0)) -> #REF!
AE29: =IF(AD29="有",16,"") | AG29: =IF(AF29='様式 社会保険料等'!$N$5,'様式 社会保険料等'!$P$24,IF(AF29='様式 社会保険料等'!#REF!,'様式 社会保険料等'!#REF!,IF(AF29='様式 社会保険料等'!#REF!,'様式 社会保険料等'!#REF!,IF(AF29='様式 社会保険料等'!#REF!,'様式 社会保険料等'!#REF!,IF(AF29='様式 社会保険料等'!#REF!,'様式 社会保険料等'!#REF!,IF(AF29='様式 社会保険料等'!#REF!,'様式 社会保険料等'!#REF!,IF(AF29='様式 社会保険料等'!#REF!,'様式 社会保険料等'!#REF!,IF(AF29='様式 社会保険料等'!#REF!,'様式 社会保険料等'!#REF!,"")))))))) -> 0 | AH29: =IF(SUM(AE29,AG29)=0,"",SUM(AE29,AG29)) | AI29: =IF(AL29*#REF!=0," ",ROUNDDOWN((AL29*#REF!),0)) -> #REF!
AE30: =IF(AD30="有",16,"") | AG30: =IF(AF30='様式 社会保険料等'!$N$5,'様式 社会保険料等'!$P$24,IF(AF30='様式 社会保険料等'!#REF!,'様式 社会保険料等'!#REF!,IF(AF30='様式 社会保険料等'!#REF!,'様式 社会保険料等'!#REF!,IF(AF30='様式 社会保険料等'!#REF!,'様式 社会保険料等'!#REF!,IF(AF30='様式 社会保険料等'!#REF!,'様式 社会保険料等'!#REF!,IF(AF30='様式 社会保険料等'!#REF!,'様式 社会保険料等'!#REF!,IF(AF30='様式 社会保険料等'!#REF!,'様式 社会保険料等'!#REF!,IF(AF30='様式 社会保険料等'!#REF!,'様式 社会保険料等'!#REF!,"")))))))) -> 0 | AH30: =IF(SUM(AE30,AG30)=0,"",SUM(AE30,AG30)) | AI30: =IF(AL30*#REF!=0," ",ROUNDDOWN((AL30*#REF!),0)) -> #REF!
AE31: =IF(AD31="有",16,"") | AG31: =IF(AF31='様式 社会保険料等'!$N$5,'様式 社会保険料等'!$P$24,IF(AF31='様式 社会保険料等'!#REF!,'様式 社会保険料等'!#REF!,IF(AF31='様式 社会保険料等'!#REF!,'様式 社会保険料等'!#REF!,IF(AF31='様式 社会保険料等'!#REF!,'様式 社会保険料等'!#REF!,IF(AF31='様式 社会保険料等'!#REF!,'様式 社会保険料等'!#REF!,IF(AF31='様式 社会保険料等'!#REF!,'様式 社会保険料等'!#REF!,IF(AF31='様式 社会保険料等'!#REF!,'様式 社会保険料等'!#REF!,IF(AF31='様式 社会保険料等'!#REF!,'様式 社会保険料等'!#REF!,"")))))))) -> 0 | AH31: =IF(SUM(AE31,AG31)=0,"",SUM(AE31,AG31)) | AI31: =IF(AL31*#REF!=0," ",ROUNDDOWN((AL31*#REF!),0)) -> #REF!
AE32: =IF(AD32="有",16,"") | AG32: =IF(AF32='様式 社会保険料等'!$N$5,'様式 社会保険料等'!$P$24,IF(AF32='様式 社会保険料等'!#REF!,'様式 社会保険料等'!#REF!,IF(AF32='様式 社会保険料等'!#REF!,'様式 社会保険料等'!#REF!,IF(AF32='様式 社会保険料等'!#REF!,'様式 社会保険料等'!#REF!,IF(AF32='様式 社会保険料等'!#REF!,'様式 社会保険料等'!#REF!,IF(AF32='様式 社会保険料等'!#REF!,'様式 社会保険料等'!#REF!,IF(AF32='様式 社会保険料等'!#REF!,'様式 社会保険料等'!#REF!,IF(AF32='様式 社会保険料等'!#REF!,'様式 社会保険料等'!#REF!,"")))))))) -> 0 | AH32: =IF(SUM(AE32,AG32)=0,"",SUM(AE32,AG32)) | AI32: =IF(AL32*#REF!=0," ",ROUNDDOWN((AL32*#REF!),0)) -> #REF!
AE33: =IF(AD33="有",16,"") | AG33: =IF(AF33='様式 社会保険料等'!$N$5,'様式 社会保険料等'!$P$24,IF(AF33='様式 社会保険料等'!#REF!,'様式 社会保険料等'!#REF!,IF(AF33='様式 社会保険料等'!#REF!,'様式 社会保険料等'!#REF!,IF(AF33='様式 社会保険料等'!#REF!,'様式 社会保険料等'!#REF!,IF(AF33='様式 社会保険料等'!#REF!,'様式 社会保険料等'!#REF!,IF(AF33='様式 社会保険料等'!#REF!,'様式 社会保険料等'!#REF!,IF(AF33='様式 社会保険料等'!#REF!,'様式 社会保険料等'!#REF!,IF(AF33='様式 社会保険料等'!#REF!,'様式 社会保険料等'!#REF!,"")))))))) -> 0 | AH33: =IF(SUM(AE33,AG33)=0,"",SUM(AE33,AG33)) | AI33: =IF(AL33*#REF!=0," ",ROUNDDOWN((AL33*#REF!),0)) -> #REF!
... AE93: =IF(AD93="有",16,"") | AG93: =IF(AF93='様式 社会保険料等'!$N$5,'様式 社会保険料等'!$P$24,IF(AF93='様式 社会保険料等'!#REF!,'様式 社会保険料等'!#REF!,IF(AF93='様式 社会保険料等'!#REF!,'様式 社会保険料等'!#REF!,IF(AF93='様式 社会保険料等'!#REF!,'様式 社会保険料等'!#REF!,IF(AF93='様式 社会保険料等'!#REF!,'様式 社会保険料等'!#REF!,IF(AF93='様式 社会保険料等'!#REF!,'様式 社会保険料等'!#REF!,IF(AF93='様式 社会保険料等'!#REF!,'様式 社会保険料等'!#REF!,IF(AF93='様式 社会保険料等'!#REF!,'様式 社会保険料等'!#REF!,"")))))))) -> 0 | AH93: =IF(SUM(AE93,AG93)=0,"",SUM(AE93,AG93)) | AI93: =IF(AL93*#REF!=0," ",ROUNDDOWN((AL93*#REF!),0)) -> #REF!

Sheet 様式　社会保険料等
U2: 直営
A3: 社会保険等加入状況調査表 | U3: 請負
L5: 付表番号 | U5: ○
B8: 作業者名 | C8: ①労災保険 | E8: ②雇用保険 | G8: ③健康保険 | I8: ④厚生年金保険 | K8: ⑤退職金共済制度 | O8: 計 | P8: 直営・ 請負別 | Q8: 備考
K9: 林退共 | M9: 中退共 建退共
C12: 加入 | D12: ６点 | E12: 加入 | F12: １点 | G12: 加入 | H12: ５点 | I12: 加入 | J12: ９点 | K12: 加入 | L12: ３点 | M12: 加入 | N12: ２点
B23: 合計
B24: 平均 | O24: 間接費率 | Q24: %
B25: （注1）本表は、交付申請書ごとの社会保険等の加入状況を記載すること。
B26: （注2）作業者名は、全ての施行地で従事した作業者全員の氏名を記載すること。 | M26: 平均点数 | P26: 社会保険等
B27: （注3）①～④は、現場労働者に係る労災保険、雇用保険、健康保険及び厚生年金保険のうち法定の事業 | M27: ７点未満 | P27: 0
B28: 主負担分がある場合には、加入欄に「○」を記入すること。 | M28: ７点以上13点未満 | P28: 0.05
B29: （注4）⑤は、林退共（林業退職金共済制度）、中退共（中小企業退職金共済制度）、建退共（建設業退 | M29: 13点以上22点未満 | P29: 0.09
B30: 職金共済制度）のいずれかに加入している場合に、加入欄に「○」を記入すること。 | M30: 22点以上 | P30: 0.15
B31: （注5）申請者は、①～⑤の保険料払込済証明書等を保管し、しゅん工検査の際に検査員に提示すること。 | P31: （Ａ４）

Sheet 様式　社会保険料等（R5～）
B1: 様式第４号
U2: 直営
A3: 社会保険等加入状況調査表 | U3: 請負
L5: 付表番号 | U5: ○
B8: 作業者名 | C8: ①労災保険 | E8: ②雇用保険 | G8: ③健康保険 | I8: ④厚生年金保険 | K8: ⑤退職金共済制度 | O8: 計 | P8: 直営・ 請負別 | Q8: 備考
K9: 中退共 | M9: 中退共以外
C12: 加入 | D12: ６点 | E12: 加入 | F12: １点 | G12: 加入 | H12: ５点 | I12: 加入 | J12: 10点 | K12: 加入 | L12: ３点 | M12: 加入 | N12: ２点
B23: 合計
B24: 平均 | O24: 間接費率 | Q24: %
B25: （注1）本表は、交付申請書ごとの社会保険等の加入状況を記載すること。
B26: （注2）作業者名は、全ての施行地で従事した作業者全員の氏名を記載すること。 | M26: 平均点数 | P26: 社会保険等
B27: （注3）①～④は、現場労働者に係る労災保険、雇用保険、健康保険及び厚生年金保険のうち法定の事業 | M27: １点以上 ７点未満 | P27: 0.03
B28: 主負担分がある場合には、加入欄に「○」を記入すること。 | M28: ７点以上 13点未満 | P28: 0.1
B29: （注4）⑤は、林退共（林業退職金共済制度）、中退共（中小企業退職金共済制度）、建退共（建設業退 | M29: 13点以上 23点未満 | P29: 0.13
B30: 職金共済制度）のいずれかに加入している場合に、加入欄に「○」を記入すること。 | M30: 23点以上 | P30: 0.18
B31: （注5）申請者は、①～⑤の保険料払込済証明書等を保管し、しゅん工検査の際に検査員に提示すること。 | P31: （Ａ４）
